BEGIN:VCALENDAR
VERSION:2.0
PRODID:-//217.160.0.167//NONSGML kigkonsult.se iCalcreator 2.20//
CALSCALE:GREGORIAN
METHOD:PUBLISH
X-WR-TIMEZONE:UTC
BEGIN:VEVENT
UID:event760@Gemeinde Bonstetten
DTSTAMP:20260421T161416Z
CATEGORIES:Musikverein Bonstetten
DESCRIPTION:Maifest\nVeranstalter: Musikverein Bonstetten\nICS-Link: https:
 //bonstetten.de/index.php?option=com_jem&view=event&id=760:maifest\n
DTSTART;VALUE=DATE:20260514
DTEND;VALUE=DATE:20260518
SUMMARY:Maifest
URL:https://bonstetten.de/index.php?option=com_jem&view=event&id=760:maifes
 t
END:VEVENT
END:VCALENDAR
