BEGIN:VCALENDAR
VERSION:2.0
PRODID:-//217.160.0.167//NONSGML kigkonsult.se iCalcreator 2.20//
CALSCALE:GREGORIAN
METHOD:PUBLISH
X-WR-TIMEZONE:UTC
BEGIN:VEVENT
UID:event769@Gemeinde Bonstetten
DTSTAMP:20260421T223523Z
CATEGORIES:Allgemein
DESCRIPTION:Mitmach-Zirkus GS Adelsried-Bonstetten\nVeranstalter: Allgemein
 \nICS-Link: https://bonstetten.de/index.php?option=com_jem&view=event&id=7
 69:mitmach-zirkus-gs-adelsried-bonstetten\n
DTSTART;VALUE=DATE:20260615
DTEND;VALUE=DATE:20260620
SUMMARY:Mitmach-Zirkus GS Adelsried-Bonstetten
URL:https://bonstetten.de/index.php?option=com_jem&view=event&id=769:mitmac
 h-zirkus-gs-adelsried-bonstetten
END:VEVENT
END:VCALENDAR
