BEGIN:VCALENDAR
VERSION:2.0
PRODID:-//217.160.0.167//NONSGML kigkonsult.se iCalcreator 2.20//
CALSCALE:GREGORIAN
METHOD:PUBLISH
X-WR-TIMEZONE:UTC
BEGIN:VEVENT
UID:event767@Gemeinde Bonstetten
DTSTAMP:20260423T083835Z
CATEGORIES:Pfarrgemeinde
DESCRIPTION:Fronleichnam Prozession\nVeranstalter: Pfarrgemeinde\nICS-Link:
  https://bonstetten.de/index.php?option=com_jem&view=event&id=767:fronleic
 hnam-prozession\n
DTSTART;VALUE=DATE:20260604
DTEND;VALUE=DATE:20260605
SUMMARY:Fronleichnam Prozession
URL:https://bonstetten.de/index.php?option=com_jem&view=event&id=767:fronle
 ichnam-prozession
END:VEVENT
END:VCALENDAR
