BEGIN:VCALENDAR
VERSION:2.0
PRODID:-//217.160.0.167//NONSGML kigkonsult.se iCalcreator 2.20//
CALSCALE:GREGORIAN
METHOD:PUBLISH
X-WR-TIMEZONE:UTC
BEGIN:VEVENT
UID:event765@Gemeinde Bonstetten
DTSTAMP:20260421T145552Z
CATEGORIES:Krieger- und Soldatenverein
DESCRIPTION:Wallfahrt nach Biberbach\nVeranstalter: Krieger- und Soldatenve
 rein\nICS-Link: https://bonstetten.de/index.php?option=com_jem&view=event&
 id=765:wallfahrt-nach-biberbach\n
DTSTART;VALUE=DATE:20260517
DTEND;VALUE=DATE:20260518
SUMMARY:Wallfahrt nach Biberbach
URL:https://bonstetten.de/index.php?option=com_jem&view=event&id=765:wallfa
 hrt-nach-biberbach
END:VEVENT
BEGIN:VEVENT
UID:event766@Gemeinde Bonstetten
DTSTAMP:20260421T145552Z
CATEGORIES:Krieger- und Soldatenverein
DESCRIPTION:Wallfahrt Maria Elend\, Baar\nVeranstalter: Krieger- und Soldat
 enverein\nICS-Link: https://bonstetten.de/index.php?option=com_jem&view=ev
 ent&id=766:wallfahrt-maria-elend-baar\n
DTSTART;VALUE=DATE:20260531
DTEND;VALUE=DATE:20260601
SUMMARY:Wallfahrt Maria Elend\, Baar
URL:https://bonstetten.de/index.php?option=com_jem&view=event&id=766:wallfa
 hrt-maria-elend-baar
END:VEVENT
END:VCALENDAR
